BEGIN:VCALENDAR
VERSION:2.0
PRODID:-//Tiny Paws Pug Rescue - ECPv6.15.20//NONSGML v1.0//EN
CALSCALE:GREGORIAN
METHOD:PUBLISH
X-ORIGINAL-URL:https://tinypawspugrescue.org
X-WR-CALDESC:Events for Tiny Paws Pug Rescue
REFRESH-INTERVAL;VALUE=DURATION:PT1H
X-Robots-Tag:noindex
X-PUBLISHED-TTL:PT1H
BEGIN:VTIMEZONE
TZID:America/Los_Angeles
BEGIN:DAYLIGHT
TZOFFSETFROM:-0800
TZOFFSETTO:-0700
TZNAME:PDT
DTSTART:20260308T100000
END:DAYLIGHT
BEGIN:STANDARD
TZOFFSETFROM:-0700
TZOFFSETTO:-0800
TZNAME:PST
DTSTART:20261101T090000
END:STANDARD
BEGIN:DAYLIGHT
TZOFFSETFROM:-0800
TZOFFSETTO:-0700
TZNAME:PDT
DTSTART:20270314T100000
END:DAYLIGHT
BEGIN:STANDARD
TZOFFSETFROM:-0700
TZOFFSETTO:-0800
TZNAME:PST
DTSTART:20271107T090000
END:STANDARD
BEGIN:DAYLIGHT
TZOFFSETFROM:-0800
TZOFFSETTO:-0700
TZNAME:PDT
DTSTART:20280312T100000
END:DAYLIGHT
BEGIN:STANDARD
TZOFFSETFROM:-0700
TZOFFSETTO:-0800
TZNAME:PST
DTSTART:20281105T090000
END:STANDARD
END:VTIMEZONE
BEGIN:VEVENT
DTSTART;TZID=America/Los_Angeles:20270403T110000
DTEND;TZID=America/Los_Angeles:20270403T130000
DTSTAMP:20260422T001853
CREATED:20260409T203137Z
LAST-MODIFIED:20260422T065814Z
UID:10001151-1806750000-1806757200@tinypawspugrescue.org
SUMMARY:San Jose Pug Meet Up
DESCRIPTION:
URL:https://tinypawspugrescue.org/event/san-jose-pug-meet-up-12/
LOCATION:Butcher Park\, San Jose\, CA\, United States
ORGANIZER;CN="audrey@tinypawspugrescue.org":MAILTO:audrey@tinypawspugrescue.org
GEO:37.256766;-121.922764
END:VEVENT
BEGIN:VEVENT
DTSTART;TZID=America/Los_Angeles:20270418T110000
DTEND;TZID=America/Los_Angeles:20270418T130000
DTSTAMP:20260422T001853
CREATED:20251215T192805Z
LAST-MODIFIED:20260422T065815Z
UID:10001093-1808046000-1808053200@tinypawspugrescue.org
SUMMARY:Adoption Event at Los Gatos Pet Food Express-
DESCRIPTION:
URL:https://tinypawspugrescue.org/event/adoption-event-at-los-gatos-pet-food-express-17/
LOCATION:Pet Food Express – Los Gatos 15466 Los Gatos Blvd.\, Los Gatos\, CA\, United States
GEO:37.222788;-121.983274
END:VEVENT
BEGIN:VEVENT
DTSTART;TZID=America/Los_Angeles:20270425T120000
DTEND;TZID=America/Los_Angeles:20270425T140000
DTSTAMP:20260422T001853
CREATED:20251215T192807Z
LAST-MODIFIED:20260422T065828Z
UID:10001094-1808654400-1808661600@tinypawspugrescue.org
SUMMARY:Adoption Event at Concord Pet Food Express-
DESCRIPTION:
URL:https://tinypawspugrescue.org/event/adoption-event-at-concord-pet-food-express-17/
LOCATION:Pet Food Express – Concord\, 701 Oak Grove Rd\, Concord\, CA\, United States
GEO:37.936493;-122.023009
X-APPLE-STRUCTURED-LOCATION;VALUE=URI;X-ADDRESS=Pet Food Express – Concord 701 Oak Grove Rd Concord CA United States;X-APPLE-RADIUS=500;X-TITLE=701 Oak Grove Rd:geo:-122.023009,37.936493
END:VEVENT
BEGIN:VEVENT
DTSTART;TZID=America/Los_Angeles:20270425T120000
DTEND;TZID=America/Los_Angeles:20270425T140000
DTSTAMP:20260422T001853
CREATED:20251215T192813Z
LAST-MODIFIED:20260422T065815Z
UID:10001095-1808654400-1808661600@tinypawspugrescue.org
SUMMARY:Carmel Meet-up-
DESCRIPTION:
URL:https://tinypawspugrescue.org/event/carmel-meet-up-17/
LOCATION:Scenic Road & Martin Way\, Carmel\, CA\, United States
GEO:36.552532;-121.928629
END:VEVENT
END:VCALENDAR