BEGIN:VCALENDAR
VERSION:2.0
PRODID:-//Tiny Paws Pug Rescue - ECPv6.15.20//NONSGML v1.0//EN
CALSCALE:GREGORIAN
METHOD:PUBLISH
X-ORIGINAL-URL:https://tinypawspugrescue.org
X-WR-CALDESC:Events for Tiny Paws Pug Rescue
REFRESH-INTERVAL;VALUE=DURATION:PT1H
X-Robots-Tag:noindex
X-PUBLISHED-TTL:PT1H
BEGIN:VTIMEZONE
TZID:America/Los_Angeles
BEGIN:DAYLIGHT
TZOFFSETFROM:-0800
TZOFFSETTO:-0700
TZNAME:PDT
DTSTART:20250309T100000
END:DAYLIGHT
BEGIN:STANDARD
TZOFFSETFROM:-0700
TZOFFSETTO:-0800
TZNAME:PST
DTSTART:20251102T090000
END:STANDARD
BEGIN:DAYLIGHT
TZOFFSETFROM:-0800
TZOFFSETTO:-0700
TZNAME:PDT
DTSTART:20260308T100000
END:DAYLIGHT
BEGIN:STANDARD
TZOFFSETFROM:-0700
TZOFFSETTO:-0800
TZNAME:PST
DTSTART:20261101T090000
END:STANDARD
BEGIN:DAYLIGHT
TZOFFSETFROM:-0800
TZOFFSETTO:-0700
TZNAME:PDT
DTSTART:20270314T100000
END:DAYLIGHT
BEGIN:STANDARD
TZOFFSETFROM:-0700
TZOFFSETTO:-0800
TZNAME:PST
DTSTART:20271107T090000
END:STANDARD
END:VTIMEZONE
BEGIN:VEVENT
DTSTART;TZID=America/Los_Angeles:20260704T110000
DTEND;TZID=America/Los_Angeles:20260704T130000
DTSTAMP:20260421T100428
CREATED:20260409T203029Z
LAST-MODIFIED:20260421T154940Z
UID:10001142-1783162800-1783170000@tinypawspugrescue.org
SUMMARY:San Jose Pug Meet Up
DESCRIPTION:
URL:https://tinypawspugrescue.org/event/san-jose-pug-meet-up-3/
LOCATION:Butcher Park\, San Jose\, CA\, United States
ORGANIZER;CN="audrey@tinypawspugrescue.org":MAILTO:audrey@tinypawspugrescue.org
GEO:37.256766;-121.922764
END:VEVENT
BEGIN:VEVENT
DTSTART;TZID=America/Los_Angeles:20260719T110000
DTEND;TZID=America/Los_Angeles:20260719T130000
DTSTAMP:20260421T100428
CREATED:20251215T192653Z
LAST-MODIFIED:20260421T154940Z
UID:10001066-1784458800-1784466000@tinypawspugrescue.org
SUMMARY:Adoption Event at Los Gatos Pet Food Express-
DESCRIPTION:
URL:https://tinypawspugrescue.org/event/adoption-event-at-los-gatos-pet-food-express-8/
LOCATION:Pet Food Express – Los Gatos 15466 Los Gatos Blvd.\, Los Gatos\, CA\, United States
GEO:37.222788;-121.983274
END:VEVENT
BEGIN:VEVENT
DTSTART;TZID=America/Los_Angeles:20260726T120000
DTEND;TZID=America/Los_Angeles:20260726T140000
DTSTAMP:20260421T100428
CREATED:20251215T192655Z
LAST-MODIFIED:20260421T154941Z
UID:10001067-1785067200-1785074400@tinypawspugrescue.org
SUMMARY:Carmel Meet-up-
DESCRIPTION:
URL:https://tinypawspugrescue.org/event/carmel-meet-up-8/
LOCATION:Scenic Road & Martin Way\, Carmel\, CA\, United States
GEO:36.552532;-121.928629
END:VEVENT
BEGIN:VEVENT
DTSTART;TZID=America/Los_Angeles:20260726T120000
DTEND;TZID=America/Los_Angeles:20260726T140000
DTSTAMP:20260421T100428
CREATED:20251215T192702Z
LAST-MODIFIED:20260421T154940Z
UID:10001068-1785067200-1785074400@tinypawspugrescue.org
SUMMARY:Adoption Event at Concord Pet Food Express-
DESCRIPTION:
URL:https://tinypawspugrescue.org/event/adoption-event-at-concord-pet-food-express-8/
LOCATION:Pet Food Express – Concord\, 701 Oak Grove Rd\, Concord\, CA\, United States
GEO:37.936493;-122.023009
X-APPLE-STRUCTURED-LOCATION;VALUE=URI;X-ADDRESS=Pet Food Express – Concord 701 Oak Grove Rd Concord CA United States;X-APPLE-RADIUS=500;X-TITLE=701 Oak Grove Rd:geo:-122.023009,37.936493
END:VEVENT
END:VCALENDAR