BEGIN:VCALENDAR
VERSION:2.0
PRODID:-//Tiny Paws Pug Rescue - ECPv6.15.20//NONSGML v1.0//EN
CALSCALE:GREGORIAN
METHOD:PUBLISH
X-WR-CALNAME:Tiny Paws Pug Rescue
X-ORIGINAL-URL:https://tinypawspugrescue.org
X-WR-CALDESC:Events for Tiny Paws Pug Rescue
REFRESH-INTERVAL;VALUE=DURATION:PT1H
X-Robots-Tag:noindex
X-PUBLISHED-TTL:PT1H
BEGIN:VTIMEZONE
TZID:America/Los_Angeles
BEGIN:DAYLIGHT
TZOFFSETFROM:-0800
TZOFFSETTO:-0700
TZNAME:PDT
DTSTART:20260308T100000
END:DAYLIGHT
BEGIN:STANDARD
TZOFFSETFROM:-0700
TZOFFSETTO:-0800
TZNAME:PST
DTSTART:20261101T090000
END:STANDARD
BEGIN:DAYLIGHT
TZOFFSETFROM:-0800
TZOFFSETTO:-0700
TZNAME:PDT
DTSTART:20270314T100000
END:DAYLIGHT
BEGIN:STANDARD
TZOFFSETFROM:-0700
TZOFFSETTO:-0800
TZNAME:PST
DTSTART:20271107T090000
END:STANDARD
BEGIN:DAYLIGHT
TZOFFSETFROM:-0800
TZOFFSETTO:-0700
TZNAME:PDT
DTSTART:20280312T100000
END:DAYLIGHT
BEGIN:STANDARD
TZOFFSETFROM:-0700
TZOFFSETTO:-0800
TZNAME:PST
DTSTART:20281105T090000
END:STANDARD
END:VTIMEZONE
BEGIN:VEVENT
DTSTART;TZID=America/Los_Angeles:20270206T110000
DTEND;TZID=America/Los_Angeles:20270206T130000
DTSTAMP:20260421T191346
CREATED:20260409T203132Z
LAST-MODIFIED:20260422T012224Z
UID:10001149-1801911600-1801918800@tinypawspugrescue.org
SUMMARY:San Jose Pug Meet Up
DESCRIPTION:
URL:https://tinypawspugrescue.org/event/san-jose-pug-meet-up-10/
LOCATION:Butcher Park\, San Jose\, CA\, United States
ORGANIZER;CN="audrey@tinypawspugrescue.org":MAILTO:audrey@tinypawspugrescue.org
GEO:37.256766;-121.922764
END:VEVENT
BEGIN:VEVENT
DTSTART;TZID=America/Los_Angeles:20270221T110000
DTEND;TZID=America/Los_Angeles:20270221T130000
DTSTAMP:20260421T191346
CREATED:20251215T192751Z
LAST-MODIFIED:20260422T012236Z
UID:10001087-1803207600-1803214800@tinypawspugrescue.org
SUMMARY:Adoption Event at Los Gatos Pet Food Express-
DESCRIPTION:
URL:https://tinypawspugrescue.org/event/adoption-event-at-los-gatos-pet-food-express-15/
LOCATION:Pet Food Express – Los Gatos 15466 Los Gatos Blvd.\, Los Gatos\, CA\, United States
GEO:37.222788;-121.983274
END:VEVENT
BEGIN:VEVENT
DTSTART;TZID=America/Los_Angeles:20270228T120000
DTEND;TZID=America/Los_Angeles:20270228T140000
DTSTAMP:20260421T191346
CREATED:20251215T192754Z
LAST-MODIFIED:20260422T012237Z
UID:10001088-1803816000-1803823200@tinypawspugrescue.org
SUMMARY:Carmel Meet-up-
DESCRIPTION:
URL:https://tinypawspugrescue.org/event/carmel-meet-up-15/
LOCATION:Scenic Road & Martin Way\, Carmel\, CA\, United States
GEO:36.552532;-121.928629
END:VEVENT
BEGIN:VEVENT
DTSTART;TZID=America/Los_Angeles:20270228T120000
DTEND;TZID=America/Los_Angeles:20270228T140000
DTSTAMP:20260421T191346
CREATED:20251215T192756Z
LAST-MODIFIED:20260422T012237Z
UID:10001089-1803816000-1803823200@tinypawspugrescue.org
SUMMARY:Adoption Event at Concord Pet Food Express-
DESCRIPTION:
URL:https://tinypawspugrescue.org/event/adoption-event-at-concord-pet-food-express-15/
LOCATION:Pet Food Express – Concord\, 701 Oak Grove Rd\, Concord\, CA\, United States
GEO:37.936493;-122.023009
X-APPLE-STRUCTURED-LOCATION;VALUE=URI;X-ADDRESS=Pet Food Express – Concord 701 Oak Grove Rd Concord CA United States;X-APPLE-RADIUS=500;X-TITLE=701 Oak Grove Rd:geo:-122.023009,37.936493
END:VEVENT
BEGIN:VEVENT
DTSTART;TZID=America/Los_Angeles:20270306T110000
DTEND;TZID=America/Los_Angeles:20270306T130000
DTSTAMP:20260421T191346
CREATED:20260409T203135Z
LAST-MODIFIED:20260422T012237Z
UID:10001150-1804330800-1804338000@tinypawspugrescue.org
SUMMARY:San Jose Pug Meet Up
DESCRIPTION:
URL:https://tinypawspugrescue.org/event/san-jose-pug-meet-up-11/
LOCATION:Butcher Park\, San Jose\, CA\, United States
ORGANIZER;CN="audrey@tinypawspugrescue.org":MAILTO:audrey@tinypawspugrescue.org
GEO:37.256766;-121.922764
END:VEVENT
BEGIN:VEVENT
DTSTART;TZID=America/Los_Angeles:20270321T110000
DTEND;TZID=America/Los_Angeles:20270321T130000
DTSTAMP:20260421T191346
CREATED:20251215T192758Z
LAST-MODIFIED:20260422T012237Z
UID:10001090-1805626800-1805634000@tinypawspugrescue.org
SUMMARY:Adoption Event at Los Gatos Pet Food Express-
DESCRIPTION:
URL:https://tinypawspugrescue.org/event/adoption-event-at-los-gatos-pet-food-express-16/
LOCATION:Pet Food Express – Los Gatos 15466 Los Gatos Blvd.\, Los Gatos\, CA\, United States
GEO:37.222788;-121.983274
END:VEVENT
BEGIN:VEVENT
DTSTART;TZID=America/Los_Angeles:20270328T120000
DTEND;TZID=America/Los_Angeles:20270328T140000
DTSTAMP:20260421T191346
CREATED:20251215T192800Z
LAST-MODIFIED:20260422T012238Z
UID:10001091-1806235200-1806242400@tinypawspugrescue.org
SUMMARY:Carmel Meet-up-
DESCRIPTION:
URL:https://tinypawspugrescue.org/event/carmel-meet-up-16/
LOCATION:Scenic Road & Martin Way\, Carmel\, CA\, United States
GEO:36.552532;-121.928629
END:VEVENT
BEGIN:VEVENT
DTSTART;TZID=America/Los_Angeles:20270328T120000
DTEND;TZID=America/Los_Angeles:20270328T140000
DTSTAMP:20260421T191346
CREATED:20251215T192803Z
LAST-MODIFIED:20260422T012238Z
UID:10001092-1806235200-1806242400@tinypawspugrescue.org
SUMMARY:Adoption Event at Concord Pet Food Express-
DESCRIPTION:
URL:https://tinypawspugrescue.org/event/adoption-event-at-concord-pet-food-express-16/
LOCATION:Pet Food Express – Concord\, 701 Oak Grove Rd\, Concord\, CA\, United States
GEO:37.936493;-122.023009
X-APPLE-STRUCTURED-LOCATION;VALUE=URI;X-ADDRESS=Pet Food Express – Concord 701 Oak Grove Rd Concord CA United States;X-APPLE-RADIUS=500;X-TITLE=701 Oak Grove Rd:geo:-122.023009,37.936493
END:VEVENT
BEGIN:VEVENT
DTSTART;TZID=America/Los_Angeles:20270403T110000
DTEND;TZID=America/Los_Angeles:20270403T130000
DTSTAMP:20260421T191346
CREATED:20260409T203137Z
LAST-MODIFIED:20260422T012238Z
UID:10001151-1806750000-1806757200@tinypawspugrescue.org
SUMMARY:San Jose Pug Meet Up
DESCRIPTION:
URL:https://tinypawspugrescue.org/event/san-jose-pug-meet-up-12/
LOCATION:Butcher Park\, San Jose\, CA\, United States
ORGANIZER;CN="audrey@tinypawspugrescue.org":MAILTO:audrey@tinypawspugrescue.org
GEO:37.256766;-121.922764
END:VEVENT
BEGIN:VEVENT
DTSTART;TZID=America/Los_Angeles:20270418T110000
DTEND;TZID=America/Los_Angeles:20270418T130000
DTSTAMP:20260421T191346
CREATED:20251215T192805Z
LAST-MODIFIED:20260422T012238Z
UID:10001093-1808046000-1808053200@tinypawspugrescue.org
SUMMARY:Adoption Event at Los Gatos Pet Food Express-
DESCRIPTION:
URL:https://tinypawspugrescue.org/event/adoption-event-at-los-gatos-pet-food-express-17/
LOCATION:Pet Food Express – Los Gatos 15466 Los Gatos Blvd.\, Los Gatos\, CA\, United States
GEO:37.222788;-121.983274
END:VEVENT
BEGIN:VEVENT
DTSTART;TZID=America/Los_Angeles:20270425T120000
DTEND;TZID=America/Los_Angeles:20270425T140000
DTSTAMP:20260421T191346
CREATED:20251215T192807Z
LAST-MODIFIED:20260422T012253Z
UID:10001094-1808654400-1808661600@tinypawspugrescue.org
SUMMARY:Adoption Event at Concord Pet Food Express-
DESCRIPTION:
URL:https://tinypawspugrescue.org/event/adoption-event-at-concord-pet-food-express-17/
LOCATION:Pet Food Express – Concord\, 701 Oak Grove Rd\, Concord\, CA\, United States
GEO:37.936493;-122.023009
X-APPLE-STRUCTURED-LOCATION;VALUE=URI;X-ADDRESS=Pet Food Express – Concord 701 Oak Grove Rd Concord CA United States;X-APPLE-RADIUS=500;X-TITLE=701 Oak Grove Rd:geo:-122.023009,37.936493
END:VEVENT
BEGIN:VEVENT
DTSTART;TZID=America/Los_Angeles:20270425T120000
DTEND;TZID=America/Los_Angeles:20270425T140000
DTSTAMP:20260421T191346
CREATED:20251215T192813Z
LAST-MODIFIED:20260422T012239Z
UID:10001095-1808654400-1808661600@tinypawspugrescue.org
SUMMARY:Carmel Meet-up-
DESCRIPTION:
URL:https://tinypawspugrescue.org/event/carmel-meet-up-17/
LOCATION:Scenic Road & Martin Way\, Carmel\, CA\, United States
GEO:36.552532;-121.928629
END:VEVENT
BEGIN:VEVENT
DTSTART;TZID=America/Los_Angeles:20270501T110000
DTEND;TZID=America/Los_Angeles:20270501T130000
DTSTAMP:20260421T191346
CREATED:20260409T203153Z
LAST-MODIFIED:20260422T012253Z
UID:10001152-1809169200-1809176400@tinypawspugrescue.org
SUMMARY:San Jose Pug Meet Up
DESCRIPTION:
URL:https://tinypawspugrescue.org/event/san-jose-pug-meet-up-13/
LOCATION:Butcher Park\, San Jose\, CA\, United States
ORGANIZER;CN="audrey@tinypawspugrescue.org":MAILTO:audrey@tinypawspugrescue.org
GEO:37.256766;-121.922764
END:VEVENT
BEGIN:VEVENT
DTSTART;TZID=America/Los_Angeles:20270516T110000
DTEND;TZID=America/Los_Angeles:20270516T130000
DTSTAMP:20260421T191346
CREATED:20251215T192816Z
LAST-MODIFIED:20260422T012253Z
UID:10001096-1810465200-1810472400@tinypawspugrescue.org
SUMMARY:Adoption Event at Los Gatos Pet Food Express-
DESCRIPTION:
URL:https://tinypawspugrescue.org/event/adoption-event-at-los-gatos-pet-food-express-18/
LOCATION:Pet Food Express – Los Gatos 15466 Los Gatos Blvd.\, Los Gatos\, CA\, United States
GEO:37.222788;-121.983274
END:VEVENT
BEGIN:VEVENT
DTSTART;TZID=America/Los_Angeles:20270523T120000
DTEND;TZID=America/Los_Angeles:20270523T140000
DTSTAMP:20260421T191346
CREATED:20251215T192819Z
LAST-MODIFIED:20260422T012253Z
UID:10001097-1811073600-1811080800@tinypawspugrescue.org
SUMMARY:Adoption Event at Concord Pet Food Express-
DESCRIPTION:
URL:https://tinypawspugrescue.org/event/adoption-event-at-concord-pet-food-express-18/
LOCATION:Pet Food Express – Concord\, 701 Oak Grove Rd\, Concord\, CA\, United States
GEO:37.936493;-122.023009
X-APPLE-STRUCTURED-LOCATION;VALUE=URI;X-ADDRESS=Pet Food Express – Concord 701 Oak Grove Rd Concord CA United States;X-APPLE-RADIUS=500;X-TITLE=701 Oak Grove Rd:geo:-122.023009,37.936493
END:VEVENT
BEGIN:VEVENT
DTSTART;TZID=America/Los_Angeles:20270530T120000
DTEND;TZID=America/Los_Angeles:20270530T140000
DTSTAMP:20260421T191346
CREATED:20251215T192822Z
LAST-MODIFIED:20260422T012254Z
UID:10001098-1811678400-1811685600@tinypawspugrescue.org
SUMMARY:Carmel Meet-up-
DESCRIPTION:
URL:https://tinypawspugrescue.org/event/carmel-meet-up-18/
LOCATION:Scenic Road & Martin Way\, Carmel\, CA\, United States
GEO:36.552532;-121.928629
END:VEVENT
BEGIN:VEVENT
DTSTART;TZID=America/Los_Angeles:20270605T110000
DTEND;TZID=America/Los_Angeles:20270605T130000
DTSTAMP:20260421T191346
CREATED:20260409T203156Z
LAST-MODIFIED:20260422T012254Z
UID:10001153-1812193200-1812200400@tinypawspugrescue.org
SUMMARY:San Jose Pug Meet Up
DESCRIPTION:
URL:https://tinypawspugrescue.org/event/san-jose-pug-meet-up-14/
LOCATION:Butcher Park\, San Jose\, CA\, United States
ORGANIZER;CN="audrey@tinypawspugrescue.org":MAILTO:audrey@tinypawspugrescue.org
GEO:37.256766;-121.922764
END:VEVENT
BEGIN:VEVENT
DTSTART;TZID=America/Los_Angeles:20270620T110000
DTEND;TZID=America/Los_Angeles:20270620T130000
DTSTAMP:20260421T191346
CREATED:20251215T192824Z
LAST-MODIFIED:20260422T012254Z
UID:10001099-1813489200-1813496400@tinypawspugrescue.org
SUMMARY:Adoption Event at Los Gatos Pet Food Express-
DESCRIPTION:
URL:https://tinypawspugrescue.org/event/adoption-event-at-los-gatos-pet-food-express-19/
LOCATION:Pet Food Express – Los Gatos 15466 Los Gatos Blvd.\, Los Gatos\, CA\, United States
GEO:37.222788;-121.983274
END:VEVENT
BEGIN:VEVENT
DTSTART;TZID=America/Los_Angeles:20270627T120000
DTEND;TZID=America/Los_Angeles:20270627T140000
DTSTAMP:20260421T191346
CREATED:20251215T192827Z
LAST-MODIFIED:20260422T012255Z
UID:10001100-1814097600-1814104800@tinypawspugrescue.org
SUMMARY:Adoption Event at Concord Pet Food Express-
DESCRIPTION:
URL:https://tinypawspugrescue.org/event/adoption-event-at-concord-pet-food-express-19/
LOCATION:Pet Food Express – Concord\, 701 Oak Grove Rd\, Concord\, CA\, United States
GEO:37.936493;-122.023009
X-APPLE-STRUCTURED-LOCATION;VALUE=URI;X-ADDRESS=Pet Food Express – Concord 701 Oak Grove Rd Concord CA United States;X-APPLE-RADIUS=500;X-TITLE=701 Oak Grove Rd:geo:-122.023009,37.936493
END:VEVENT
BEGIN:VEVENT
DTSTART;TZID=America/Los_Angeles:20270627T120000
DTEND;TZID=America/Los_Angeles:20270627T140000
DTSTAMP:20260421T191346
CREATED:20251215T192829Z
LAST-MODIFIED:20260422T012255Z
UID:10001101-1814097600-1814104800@tinypawspugrescue.org
SUMMARY:Carmel Meet-up-
DESCRIPTION:
URL:https://tinypawspugrescue.org/event/carmel-meet-up-19/
LOCATION:Scenic Road & Martin Way\, Carmel\, CA\, United States
GEO:36.552532;-121.928629
END:VEVENT
BEGIN:VEVENT
DTSTART;TZID=America/Los_Angeles:20270703T110000
DTEND;TZID=America/Los_Angeles:20270703T130000
DTSTAMP:20260421T191346
CREATED:20260409T203213Z
LAST-MODIFIED:20260422T012255Z
UID:10001154-1814612400-1814619600@tinypawspugrescue.org
SUMMARY:San Jose Pug Meet Up
DESCRIPTION:
URL:https://tinypawspugrescue.org/event/san-jose-pug-meet-up-15/
LOCATION:Butcher Park\, San Jose\, CA\, United States
ORGANIZER;CN="audrey@tinypawspugrescue.org":MAILTO:audrey@tinypawspugrescue.org
GEO:37.256766;-121.922764
END:VEVENT
BEGIN:VEVENT
DTSTART;TZID=America/Los_Angeles:20270718T110000
DTEND;TZID=America/Los_Angeles:20270718T130000
DTSTAMP:20260421T191346
CREATED:20251215T192832Z
LAST-MODIFIED:20260422T012308Z
UID:10001102-1815908400-1815915600@tinypawspugrescue.org
SUMMARY:Adoption Event at Los Gatos Pet Food Express-
DESCRIPTION:
URL:https://tinypawspugrescue.org/event/adoption-event-at-los-gatos-pet-food-express-20/
LOCATION:Pet Food Express – Los Gatos 15466 Los Gatos Blvd.\, Los Gatos\, CA\, United States
GEO:37.222788;-121.983274
END:VEVENT
BEGIN:VEVENT
DTSTART;TZID=America/Los_Angeles:20270725T120000
DTEND;TZID=America/Los_Angeles:20270725T140000
DTSTAMP:20260421T191346
CREATED:20251215T192837Z
LAST-MODIFIED:20260422T012308Z
UID:10001103-1816516800-1816524000@tinypawspugrescue.org
SUMMARY:Carmel Meet-up-
DESCRIPTION:
URL:https://tinypawspugrescue.org/event/carmel-meet-up-20/
LOCATION:Scenic Road & Martin Way\, Carmel\, CA\, United States
GEO:36.552532;-121.928629
END:VEVENT
BEGIN:VEVENT
DTSTART;TZID=America/Los_Angeles:20270725T120000
DTEND;TZID=America/Los_Angeles:20270725T140000
DTSTAMP:20260421T191346
CREATED:20251215T192839Z
LAST-MODIFIED:20260422T012308Z
UID:10001104-1816516800-1816524000@tinypawspugrescue.org
SUMMARY:Adoption Event at Concord Pet Food Express-
DESCRIPTION:
URL:https://tinypawspugrescue.org/event/adoption-event-at-concord-pet-food-express-20/
LOCATION:Pet Food Express – Concord\, 701 Oak Grove Rd\, Concord\, CA\, United States
GEO:37.936493;-122.023009
X-APPLE-STRUCTURED-LOCATION;VALUE=URI;X-ADDRESS=Pet Food Express – Concord 701 Oak Grove Rd Concord CA United States;X-APPLE-RADIUS=500;X-TITLE=701 Oak Grove Rd:geo:-122.023009,37.936493
END:VEVENT
BEGIN:VEVENT
DTSTART;TZID=America/Los_Angeles:20270807T110000
DTEND;TZID=America/Los_Angeles:20270807T130000
DTSTAMP:20260421T191346
CREATED:20260409T203216Z
LAST-MODIFIED:20260422T012308Z
UID:10001155-1817636400-1817643600@tinypawspugrescue.org
SUMMARY:San Jose Pug Meet Up
DESCRIPTION:
URL:https://tinypawspugrescue.org/event/san-jose-pug-meet-up-16/
LOCATION:Butcher Park\, San Jose\, CA\, United States
ORGANIZER;CN="audrey@tinypawspugrescue.org":MAILTO:audrey@tinypawspugrescue.org
GEO:37.256766;-121.922764
END:VEVENT
BEGIN:VEVENT
DTSTART;TZID=America/Los_Angeles:20270815T110000
DTEND;TZID=America/Los_Angeles:20270815T130000
DTSTAMP:20260421T191346
CREATED:20251215T192842Z
LAST-MODIFIED:20260422T012309Z
UID:10001105-1818327600-1818334800@tinypawspugrescue.org
SUMMARY:Adoption Event at Los Gatos Pet Food Express-
DESCRIPTION:
URL:https://tinypawspugrescue.org/event/adoption-event-at-los-gatos-pet-food-express-21/
LOCATION:Pet Food Express – Los Gatos 15466 Los Gatos Blvd.\, Los Gatos\, CA\, United States
GEO:37.222788;-121.983274
END:VEVENT
BEGIN:VEVENT
DTSTART;TZID=America/Los_Angeles:20270822T120000
DTEND;TZID=America/Los_Angeles:20270822T140000
DTSTAMP:20260421T191346
CREATED:20251215T192843Z
LAST-MODIFIED:20260422T012309Z
UID:10001106-1818936000-1818943200@tinypawspugrescue.org
SUMMARY:Adoption Event at Concord Pet Food Express-
DESCRIPTION:
URL:https://tinypawspugrescue.org/event/adoption-event-at-concord-pet-food-express-21/
LOCATION:Pet Food Express – Concord\, 701 Oak Grove Rd\, Concord\, CA\, United States
GEO:37.936493;-122.023009
X-APPLE-STRUCTURED-LOCATION;VALUE=URI;X-ADDRESS=Pet Food Express – Concord 701 Oak Grove Rd Concord CA United States;X-APPLE-RADIUS=500;X-TITLE=701 Oak Grove Rd:geo:-122.023009,37.936493
END:VEVENT
BEGIN:VEVENT
DTSTART;TZID=America/Los_Angeles:20270829T120000
DTEND;TZID=America/Los_Angeles:20270829T140000
DTSTAMP:20260421T191346
CREATED:20251215T192845Z
LAST-MODIFIED:20260422T012309Z
UID:10001107-1819540800-1819548000@tinypawspugrescue.org
SUMMARY:Carmel Meet-up-
DESCRIPTION:
URL:https://tinypawspugrescue.org/event/carmel-meet-up-21/
LOCATION:Scenic Road & Martin Way\, Carmel\, CA\, United States
GEO:36.552532;-121.928629
END:VEVENT
BEGIN:VEVENT
DTSTART;TZID=America/Los_Angeles:20270904T110000
DTEND;TZID=America/Los_Angeles:20270904T130000
DTSTAMP:20260421T191346
CREATED:20260409T203219Z
LAST-MODIFIED:20260422T012309Z
UID:10001156-1820055600-1820062800@tinypawspugrescue.org
SUMMARY:San Jose Pug Meet Up
DESCRIPTION:
URL:https://tinypawspugrescue.org/event/san-jose-pug-meet-up-17/
LOCATION:Butcher Park\, San Jose\, CA\, United States
ORGANIZER;CN="audrey@tinypawspugrescue.org":MAILTO:audrey@tinypawspugrescue.org
GEO:37.256766;-121.922764
END:VEVENT
BEGIN:VEVENT
DTSTART;TZID=America/Los_Angeles:20270919T110000
DTEND;TZID=America/Los_Angeles:20270919T130000
DTSTAMP:20260421T191346
CREATED:20251215T192847Z
LAST-MODIFIED:20260422T012310Z
UID:10001108-1821351600-1821358800@tinypawspugrescue.org
SUMMARY:Adoption Event at Los Gatos Pet Food Express-
DESCRIPTION:
URL:https://tinypawspugrescue.org/event/adoption-event-at-los-gatos-pet-food-express-22/
LOCATION:Pet Food Express – Los Gatos 15466 Los Gatos Blvd.\, Los Gatos\, CA\, United States
GEO:37.222788;-121.983274
END:VEVENT
END:VCALENDAR