BEGIN:VCALENDAR
VERSION:2.0
PRODID:-//Tiny Paws Pug Rescue - ECPv6.15.20//NONSGML v1.0//EN
CALSCALE:GREGORIAN
METHOD:PUBLISH
X-WR-CALNAME:Tiny Paws Pug Rescue
X-ORIGINAL-URL:https://tinypawspugrescue.org
X-WR-CALDESC:Events for Tiny Paws Pug Rescue
REFRESH-INTERVAL;VALUE=DURATION:PT1H
X-Robots-Tag:noindex
X-PUBLISHED-TTL:PT1H
BEGIN:VTIMEZONE
TZID:America/Los_Angeles
BEGIN:DAYLIGHT
TZOFFSETFROM:-0800
TZOFFSETTO:-0700
TZNAME:PDT
DTSTART:20270314T100000
END:DAYLIGHT
BEGIN:STANDARD
TZOFFSETFROM:-0700
TZOFFSETTO:-0800
TZNAME:PST
DTSTART:20271107T090000
END:STANDARD
BEGIN:DAYLIGHT
TZOFFSETFROM:-0800
TZOFFSETTO:-0700
TZNAME:PDT
DTSTART:20280312T100000
END:DAYLIGHT
BEGIN:STANDARD
TZOFFSETFROM:-0700
TZOFFSETTO:-0800
TZNAME:PST
DTSTART:20281105T090000
END:STANDARD
BEGIN:DAYLIGHT
TZOFFSETFROM:-0800
TZOFFSETTO:-0700
TZNAME:PDT
DTSTART:20290311T100000
END:DAYLIGHT
BEGIN:STANDARD
TZOFFSETFROM:-0700
TZOFFSETTO:-0800
TZNAME:PST
DTSTART:20291104T090000
END:STANDARD
END:VTIMEZONE
BEGIN:VEVENT
DTSTART;TZID=America/Los_Angeles:20280101T110000
DTEND;TZID=America/Los_Angeles:20280101T130000
DTSTAMP:20260422T152111
CREATED:20260409T203255Z
LAST-MODIFIED:20260422T205845Z
UID:10001160-1830337200-1830344400@tinypawspugrescue.org
SUMMARY:San Jose Pug Meet Up
DESCRIPTION:
URL:https://tinypawspugrescue.org/event/san-jose-pug-meet-up-21/
LOCATION:Butcher Park\, San Jose\, CA\, United States
ORGANIZER;CN="audrey@tinypawspugrescue.org":MAILTO:audrey@tinypawspugrescue.org
GEO:37.256766;-121.922764
END:VEVENT
BEGIN:VEVENT
DTSTART;TZID=America/Los_Angeles:20280116T110000
DTEND;TZID=America/Los_Angeles:20280116T130000
DTSTAMP:20260422T152111
CREATED:20260116T002620Z
LAST-MODIFIED:20260422T205845Z
UID:10001121-1831633200-1831640400@tinypawspugrescue.org
SUMMARY:Adoption Event at Los Gatos Pet Food Express-
DESCRIPTION:
URL:https://tinypawspugrescue.org/event/adoption-event-at-los-gatos-pet-food-express-26/
LOCATION:Pet Food Express – Los Gatos 15466 Los Gatos Blvd.\, Los Gatos\, CA\, United States
GEO:37.222788;-121.983274
END:VEVENT
BEGIN:VEVENT
DTSTART;TZID=America/Los_Angeles:20280123T120000
DTEND;TZID=America/Los_Angeles:20280123T140000
DTSTAMP:20260422T152111
CREATED:20260123T005658Z
LAST-MODIFIED:20260422T205846Z
UID:10001122-1832241600-1832248800@tinypawspugrescue.org
SUMMARY:Adoption Event at Concord Pet Food Express-
DESCRIPTION:
URL:https://tinypawspugrescue.org/event/adoption-event-at-concord-pet-food-express-26/
LOCATION:Pet Food Express – Concord\, 701 Oak Grove Rd\, Concord\, CA\, United States
GEO:37.936493;-122.023009
X-APPLE-STRUCTURED-LOCATION;VALUE=URI;X-ADDRESS=Pet Food Express – Concord 701 Oak Grove Rd Concord CA United States;X-APPLE-RADIUS=500;X-TITLE=701 Oak Grove Rd:geo:-122.023009,37.936493
END:VEVENT
BEGIN:VEVENT
DTSTART;TZID=America/Los_Angeles:20280130T120000
DTEND;TZID=America/Los_Angeles:20280130T140000
DTSTAMP:20260422T152111
CREATED:20260130T005336Z
LAST-MODIFIED:20260422T205846Z
UID:10001123-1832846400-1832853600@tinypawspugrescue.org
SUMMARY:Carmel Meet-up-
DESCRIPTION:
URL:https://tinypawspugrescue.org/event/carmel-meet-up-26/
LOCATION:Scenic Road & Martin Way\, Carmel\, CA\, United States
GEO:36.552532;-121.928629
END:VEVENT
BEGIN:VEVENT
DTSTART;TZID=America/Los_Angeles:20280205T110000
DTEND;TZID=America/Los_Angeles:20280205T130000
DTSTAMP:20260422T152112
CREATED:20260409T203258Z
LAST-MODIFIED:20260422T205846Z
UID:10001161-1833361200-1833368400@tinypawspugrescue.org
SUMMARY:San Jose Pug Meet Up
DESCRIPTION:
URL:https://tinypawspugrescue.org/event/san-jose-pug-meet-up-22/
LOCATION:Butcher Park\, San Jose\, CA\, United States
ORGANIZER;CN="audrey@tinypawspugrescue.org":MAILTO:audrey@tinypawspugrescue.org
GEO:37.256766;-121.922764
END:VEVENT
BEGIN:VEVENT
DTSTART;TZID=America/Los_Angeles:20280220T110000
DTEND;TZID=America/Los_Angeles:20280220T130000
DTSTAMP:20260422T152112
CREATED:20260220T002705Z
LAST-MODIFIED:20260422T205846Z
UID:10001128-1834657200-1834664400@tinypawspugrescue.org
SUMMARY:Adoption Event at Los Gatos Pet Food Express-
DESCRIPTION:
URL:https://tinypawspugrescue.org/event/adoption-event-at-los-gatos-pet-food-express-27/
LOCATION:Pet Food Express – Los Gatos 15466 Los Gatos Blvd.\, Los Gatos\, CA\, United States
GEO:37.222788;-121.983274
END:VEVENT
BEGIN:VEVENT
DTSTART;TZID=America/Los_Angeles:20280227T120000
DTEND;TZID=America/Los_Angeles:20280227T140000
DTSTAMP:20260422T152112
CREATED:20260227T002757Z
LAST-MODIFIED:20260422T205847Z
UID:10001129-1835265600-1835272800@tinypawspugrescue.org
SUMMARY:Adoption Event at Concord Pet Food Express-
DESCRIPTION:
URL:https://tinypawspugrescue.org/event/adoption-event-at-concord-pet-food-express-27/
LOCATION:Pet Food Express – Concord\, 701 Oak Grove Rd\, Concord\, CA\, United States
GEO:37.936493;-122.023009
X-APPLE-STRUCTURED-LOCATION;VALUE=URI;X-ADDRESS=Pet Food Express – Concord 701 Oak Grove Rd Concord CA United States;X-APPLE-RADIUS=500;X-TITLE=701 Oak Grove Rd:geo:-122.023009,37.936493
END:VEVENT
BEGIN:VEVENT
DTSTART;TZID=America/Los_Angeles:20280227T120000
DTEND;TZID=America/Los_Angeles:20280227T140000
DTSTAMP:20260422T152112
CREATED:20260227T002758Z
LAST-MODIFIED:20260422T205858Z
UID:10001130-1835265600-1835272800@tinypawspugrescue.org
SUMMARY:Carmel Meet-up-
DESCRIPTION:
URL:https://tinypawspugrescue.org/event/carmel-meet-up-27/
LOCATION:Scenic Road & Martin Way\, Carmel\, CA\, United States
GEO:36.552532;-121.928629
END:VEVENT
BEGIN:VEVENT
DTSTART;TZID=America/Los_Angeles:20280304T110000
DTEND;TZID=America/Los_Angeles:20280304T130000
DTSTAMP:20260422T152112
CREATED:20260409T203314Z
LAST-MODIFIED:20260422T205858Z
UID:10001162-1835780400-1835787600@tinypawspugrescue.org
SUMMARY:San Jose Pug Meet Up
DESCRIPTION:
URL:https://tinypawspugrescue.org/event/san-jose-pug-meet-up-23/
LOCATION:Butcher Park\, San Jose\, CA\, United States
ORGANIZER;CN="audrey@tinypawspugrescue.org":MAILTO:audrey@tinypawspugrescue.org
GEO:37.256766;-121.922764
END:VEVENT
BEGIN:VEVENT
DTSTART;TZID=America/Los_Angeles:20280319T110000
DTEND;TZID=America/Los_Angeles:20280319T130000
DTSTAMP:20260422T152112
CREATED:20260321T141914Z
LAST-MODIFIED:20260422T205859Z
UID:10001133-1837076400-1837083600@tinypawspugrescue.org
SUMMARY:Adoption Event at Los Gatos Pet Food Express-
DESCRIPTION:
URL:https://tinypawspugrescue.org/event/adoption-event-at-los-gatos-pet-food-express-28/
LOCATION:Pet Food Express – Los Gatos 15466 Los Gatos Blvd.\, Los Gatos\, CA\, United States
GEO:37.222788;-121.983274
END:VEVENT
BEGIN:VEVENT
DTSTART;TZID=America/Los_Angeles:20280326T120000
DTEND;TZID=America/Los_Angeles:20280326T140000
DTSTAMP:20260422T152112
CREATED:20260330T203630Z
LAST-MODIFIED:20260422T205859Z
UID:10001138-1837684800-1837692000@tinypawspugrescue.org
SUMMARY:Carmel Meet-up-
DESCRIPTION:
URL:https://tinypawspugrescue.org/event/carmel-meet-up-28/
LOCATION:Scenic Road & Martin Way\, Carmel\, CA\, United States
GEO:36.552532;-121.928629
END:VEVENT
BEGIN:VEVENT
DTSTART;TZID=America/Los_Angeles:20280326T120000
DTEND;TZID=America/Los_Angeles:20280326T140000
DTSTAMP:20260422T152112
CREATED:20260330T203725Z
LAST-MODIFIED:20260422T205859Z
UID:10001139-1837684800-1837692000@tinypawspugrescue.org
SUMMARY:Adoption Event at Concord Pet Food Express-
DESCRIPTION:
URL:https://tinypawspugrescue.org/event/adoption-event-at-concord-pet-food-express-28/
LOCATION:Pet Food Express – Concord\, 701 Oak Grove Rd\, Concord\, CA\, United States
GEO:37.936493;-122.023009
X-APPLE-STRUCTURED-LOCATION;VALUE=URI;X-ADDRESS=Pet Food Express – Concord 701 Oak Grove Rd Concord CA United States;X-APPLE-RADIUS=500;X-TITLE=701 Oak Grove Rd:geo:-122.023009,37.936493
END:VEVENT
BEGIN:VEVENT
DTSTART;TZID=America/Los_Angeles:20280401T110000
DTEND;TZID=America/Los_Angeles:20280401T130000
DTSTAMP:20260422T152112
CREATED:20260409T203317Z
LAST-MODIFIED:20260422T205859Z
UID:10001163-1838199600-1838206800@tinypawspugrescue.org
SUMMARY:San Jose Pug Meet Up
DESCRIPTION:
URL:https://tinypawspugrescue.org/event/san-jose-pug-meet-up-24/
LOCATION:Butcher Park\, San Jose\, CA\, United States
ORGANIZER;CN="audrey@tinypawspugrescue.org":MAILTO:audrey@tinypawspugrescue.org
GEO:37.256766;-121.922764
END:VEVENT
BEGIN:VEVENT
DTSTART;TZID=America/Los_Angeles:20280416T110000
DTEND;TZID=America/Los_Angeles:20280416T130000
DTSTAMP:20260422T152112
CREATED:20260416T004142Z
LAST-MODIFIED:20260422T205900Z
UID:10001164-1839495600-1839502800@tinypawspugrescue.org
SUMMARY:Adoption Event at Los Gatos Pet Food Express-
DESCRIPTION:
URL:https://tinypawspugrescue.org/event/adoption-event-at-los-gatos-pet-food-express-29/
LOCATION:Pet Food Express – Los Gatos 15466 Los Gatos Blvd.\, Los Gatos\, CA\, United States
GEO:37.222788;-121.983274
END:VEVENT
END:VCALENDAR