BEGIN:VCALENDAR
VERSION:2.0
PRODID:-//Tiny Paws Pug Rescue - ECPv6.15.20//NONSGML v1.0//EN
CALSCALE:GREGORIAN
METHOD:PUBLISH
X-WR-CALNAME:Tiny Paws Pug Rescue
X-ORIGINAL-URL:https://tinypawspugrescue.org
X-WR-CALDESC:Events for Tiny Paws Pug Rescue
REFRESH-INTERVAL;VALUE=DURATION:PT1H
X-Robots-Tag:noindex
X-PUBLISHED-TTL:PT1H
BEGIN:VTIMEZONE
TZID:America/Los_Angeles
BEGIN:DAYLIGHT
TZOFFSETFROM:-0800
TZOFFSETTO:-0700
TZNAME:PDT
DTSTART:20250309T100000
END:DAYLIGHT
BEGIN:STANDARD
TZOFFSETFROM:-0700
TZOFFSETTO:-0800
TZNAME:PST
DTSTART:20251102T090000
END:STANDARD
BEGIN:DAYLIGHT
TZOFFSETFROM:-0800
TZOFFSETTO:-0700
TZNAME:PDT
DTSTART:20260308T100000
END:DAYLIGHT
BEGIN:STANDARD
TZOFFSETFROM:-0700
TZOFFSETTO:-0800
TZNAME:PST
DTSTART:20261101T090000
END:STANDARD
BEGIN:DAYLIGHT
TZOFFSETFROM:-0800
TZOFFSETTO:-0700
TZNAME:PDT
DTSTART:20270314T100000
END:DAYLIGHT
BEGIN:STANDARD
TZOFFSETFROM:-0700
TZOFFSETTO:-0800
TZNAME:PST
DTSTART:20271107T090000
END:STANDARD
END:VTIMEZONE
BEGIN:VEVENT
DTSTART;TZID=America/Los_Angeles:20260118T110000
DTEND;TZID=America/Los_Angeles:20260118T130000
DTSTAMP:20260421T144359
CREATED:20251215T192559Z
LAST-MODIFIED:20260118T202531Z
UID:10001048-1768734000-1768741200@tinypawspugrescue.org
SUMMARY:Adoption Event at Los Gatos Pet Food Express-
DESCRIPTION:
URL:https://tinypawspugrescue.org/event/adoption-event-at-los-gatos-pet-food-express-2/
LOCATION:Pet Food Express – Los Gatos 15466 Los Gatos Blvd.\, Los Gatos\, CA\, United States
GEO:37.222788;-121.983274
END:VEVENT
BEGIN:VEVENT
DTSTART;TZID=America/Los_Angeles:20260116T000100
DTEND;TZID=America/Los_Angeles:20260116T115900
DTSTAMP:20260421T144359
CREATED:20260109T215139Z
LAST-MODIFIED:20260116T195742Z
UID:10001120-1768521660-1768564740@tinypawspugrescue.org
SUMMARY:Panda Express Fundraiser - Online Order Code: 9008782
DESCRIPTION:Place your order for Pickup or delivery “nationwide” ONLINE ONLY at www.pandaexpress.com \nUse Code 9008782Panda Express Fundraiser
URL:https://tinypawspugrescue.org/event/panda-express-fundraiser-online-order-code-9008782/
LOCATION:Any Panda Express location
END:VEVENT
END:VCALENDAR