BEGIN:VCALENDAR
VERSION:2.0
PRODID:-//Tiny Paws Pug Rescue - ECPv6.15.20//NONSGML v1.0//EN
CALSCALE:GREGORIAN
METHOD:PUBLISH
X-ORIGINAL-URL:https://tinypawspugrescue.org
X-WR-CALDESC:Events for Tiny Paws Pug Rescue
REFRESH-INTERVAL;VALUE=DURATION:PT1H
X-Robots-Tag:noindex
X-PUBLISHED-TTL:PT1H
BEGIN:VTIMEZONE
TZID:America/Los_Angeles
BEGIN:DAYLIGHT
TZOFFSETFROM:-0800
TZOFFSETTO:-0700
TZNAME:PDT
DTSTART:20250309T100000
END:DAYLIGHT
BEGIN:STANDARD
TZOFFSETFROM:-0700
TZOFFSETTO:-0800
TZNAME:PST
DTSTART:20251102T090000
END:STANDARD
BEGIN:DAYLIGHT
TZOFFSETFROM:-0800
TZOFFSETTO:-0700
TZNAME:PDT
DTSTART:20260308T100000
END:DAYLIGHT
BEGIN:STANDARD
TZOFFSETFROM:-0700
TZOFFSETTO:-0800
TZNAME:PST
DTSTART:20261101T090000
END:STANDARD
BEGIN:DAYLIGHT
TZOFFSETFROM:-0800
TZOFFSETTO:-0700
TZNAME:PDT
DTSTART:20270314T100000
END:DAYLIGHT
BEGIN:STANDARD
TZOFFSETFROM:-0700
TZOFFSETTO:-0800
TZNAME:PST
DTSTART:20271107T090000
END:STANDARD
END:VTIMEZONE
BEGIN:VEVENT
DTSTART;TZID=America/Los_Angeles:20260315T100000
DTEND;TZID=America/Los_Angeles:20260315T110000
DTSTAMP:20260421T143506
CREATED:20260216T163208Z
LAST-MODIFIED:20260317T060410Z
UID:10001126-1773568800-1773572400@tinypawspugrescue.org
SUMMARY:Pug Yoga
DESCRIPTION:Tiny Paws Pug Rescue is excited to invite you to Pug Yoga at Zoom Room Santa Clara.\nJoin us for a joyful\, beginner friendly yoga class surrounded by adorable pugs looking for love. Expect lots of laughs\, gentle stretching\, and plenty of pug snuggles as our rescue dogs roam the room spreading smiles.\nEvent Details\nDate: March 15\nTime: 10:00 am to 11:00 am\nLocation: Zoom Room Santa Clara\nWhat to Bring\nYour own yoga mat\nA photographer will be on site capturing all the sweet moments\, and a coffee vendor will be available so you can sip while you stretch (suggested donation of $20).\nThis is a feel good event that supports our rescue mission while giving our pugs a chance to socialize and meet potential adopters. All levels are welcome.\nCome stretch\, breathe\, and fall in love with a pug or two.\nTICKETS: https://givebutter.com/WWCHGJ
URL:https://tinypawspugrescue.org/event/pug-yoga/
LOCATION:Zoom Room Dog Training\, Santa Clara\, CA\, United States
ORGANIZER;CN="audrey@tinypawspugrescue.org":MAILTO:audrey@tinypawspugrescue.org
GEO:37.348651;-121.984376
END:VEVENT
BEGIN:VEVENT
DTSTART;TZID=America/Los_Angeles:20260315T110000
DTEND;TZID=America/Los_Angeles:20260315T130000
DTSTAMP:20260421T143507
CREATED:20251215T192620Z
LAST-MODIFIED:20260317T081835Z
UID:10001054-1773572400-1773579600@tinypawspugrescue.org
SUMMARY:Adoption Event at Los Gatos Pet Food Express-
DESCRIPTION:
URL:https://tinypawspugrescue.org/event/adoption-event-at-los-gatos-pet-food-express-4/
LOCATION:Pet Food Express – Los Gatos 15466 Los Gatos Blvd.\, Los Gatos\, CA\, United States
GEO:37.222788;-121.983274
END:VEVENT
BEGIN:VEVENT
DTSTART;TZID=America/Los_Angeles:20260322T120000
DTEND;TZID=America/Los_Angeles:20260322T140000
DTSTAMP:20260421T143507
CREATED:20251215T192623Z
LAST-MODIFIED:20260326T140358Z
UID:10001055-1774180800-1774188000@tinypawspugrescue.org
SUMMARY:Adoption Event at Concord Pet Food Express-
DESCRIPTION:
URL:https://tinypawspugrescue.org/event/adoption-event-at-concord-pet-food-express-4/
LOCATION:Pet Food Express – Concord\, 701 Oak Grove Rd\, Concord\, CA\, United States
GEO:37.936493;-122.023009
X-APPLE-STRUCTURED-LOCATION;VALUE=URI;X-ADDRESS=Pet Food Express – Concord 701 Oak Grove Rd Concord CA United States;X-APPLE-RADIUS=500;X-TITLE=701 Oak Grove Rd:geo:-122.023009,37.936493
END:VEVENT
BEGIN:VEVENT
DTSTART;VALUE=DATE:20260328
DTEND;VALUE=DATE:20260329
DTSTAMP:20260421T143507
CREATED:20260216T163212Z
LAST-MODIFIED:20260402T185225Z
UID:10001127-1774656000-1774742399@tinypawspugrescue.org
SUMMARY:Elk Grove Park BBQ & Meet Up
DESCRIPTION:LInk to Free Ticket
URL:https://tinypawspugrescue.org/event/elk-grove-park-bbq-meet-up/
LOCATION:Elk Grove Regional Park\, 9950 Elk Grove Florin Rd\, Elk Grove\, CA\, United States
ORGANIZER;CN="kim@tinypawspugrescue.org":MAILTO:kim@tinypawspugrescue.org
GEO:38.400304;-121.371512
X-APPLE-STRUCTURED-LOCATION;VALUE=URI;X-ADDRESS=Elk Grove Regional Park 9950 Elk Grove Florin Rd Elk Grove CA United States;X-APPLE-RADIUS=500;X-TITLE=9950 Elk Grove Florin Rd:geo:-121.371512,38.400304
END:VEVENT
BEGIN:VEVENT
DTSTART;TZID=America/Los_Angeles:20260329T120000
DTEND;TZID=America/Los_Angeles:20260329T140000
DTSTAMP:20260421T143507
CREATED:20251215T192625Z
LAST-MODIFIED:20260402T190642Z
UID:10001056-1774785600-1774792800@tinypawspugrescue.org
SUMMARY:Carmel Meet-up-
DESCRIPTION:
URL:https://tinypawspugrescue.org/event/carmel-meet-up-4/
LOCATION:Scenic Road & Martin Way\, Carmel\, CA\, United States
GEO:36.552532;-121.928629
END:VEVENT
BEGIN:VEVENT
DTSTART;TZID=America/Los_Angeles:20260411T103000
DTEND;TZID=America/Los_Angeles:20260411T130000
DTSTAMP:20260421T143507
CREATED:20260327T233706Z
LAST-MODIFIED:20260327T233706Z
UID:10001135-1775903400-1775912400@tinypawspugrescue.org
SUMMARY:Pug Yoga
DESCRIPTION:Tiny Paws Pug Rescue is excited to invite you to Pug Yoga at Sports Basement in Novato. \nJoin us for a joyful\, beginner friendly yoga class surrounded by adorable pugs looking for love. Expect lots of laughs\, gentle stretching\, and plenty of pug snuggles as our rescue dogs roam the room spreading smiles. \nEvent Details \n\n\nDate: April 11th\, 2026 \n\n\nTime: 10:30-11:30 am (Session 1) or 12-1 pm (Session 2) \n\n\nLocation: Sports Basement\, Novato \n\n\nWhat to Bring \n\n\nYour own yoga mat \n\n\nThis is a feel good event that supports our rescue mission while giving our pugs a chance to socialize and meet potential adopters. All levels are welcome. \nCome stretch\, breathe\, and fall in love with a pug or two. \nJoin with Google Meet: https://meet.google.com/qjf-pksn-dmd\nOr dial: (US) +1 385-262-3592 PIN: 285616438#\nMore phone numbers: https://tel.meet/qjf-pksn-dmd?pin=1259023636613&hs=7\nLearn more about Meet at: https://support.google.com/a/users/answer/9282720
URL:https://tinypawspugrescue.org/event/pug-yoga-131/
LOCATION:100 Vintage Way\, Novato\, CA\, United States
ORGANIZER;CN="audrey@tinypawspugrescue.org":MAILTO:audrey@tinypawspugrescue.org
GEO:38.134068;-122.52719
END:VEVENT
BEGIN:VEVENT
DTSTART;TZID=America/Los_Angeles:20260411T103000
DTEND;TZID=America/Los_Angeles:20260411T130000
DTSTAMP:20260421T143507
CREATED:20260327T233723Z
LAST-MODIFIED:20260327T233723Z
UID:10001136-1775903400-1775912400@tinypawspugrescue.org
SUMMARY:Pug Yoga
DESCRIPTION:Tiny Paws Pug Rescue is excited to invite you to Pug Yoga at Sports Basement in Novato. \nJoin us for a joyful\, beginner friendly yoga class surrounded by adorable pugs looking for love. Expect lots of laughs\, gentle stretching\, and plenty of pug snuggles as our rescue dogs roam the room spreading smiles. \nEvent Details \n\n\nDate: April 11th\, 2026 \n\n\nTime: 10:30-11:30 am (Session 1) or 12-1 pm (Session 2) \n\n\nLocation: Sports Basement\, Novato \n\n\nWhat to Bring \n\n\nYour own yoga mat \n\n\nThis is a feel good event that supports our rescue mission while giving our pugs a chance to socialize and meet potential adopters. All levels are welcome. \nCome stretch\, breathe\, and fall in love with a pug or two. \nJoin with Google Meet: https://meet.google.com/qjf-pksn-dmd\nOr dial: (US) +1 385-262-3592 PIN: 285616438#\nMore phone numbers: https://tel.meet/qjf-pksn-dmd?pin=1259023636613&hs=7\nLearn more about Meet at: https://support.google.com/a/users/answer/9282720
URL:https://tinypawspugrescue.org/event/pug-yoga-132/
LOCATION:100 Vintage Way\, Novato\, CA\, United States
ORGANIZER;CN="audrey@tinypawspugrescue.org":MAILTO:audrey@tinypawspugrescue.org
GEO:38.134068;-122.52719
END:VEVENT
BEGIN:VEVENT
DTSTART;TZID=America/Los_Angeles:20260411T103000
DTEND;TZID=America/Los_Angeles:20260411T130000
DTSTAMP:20260421T143507
CREATED:20260327T233746Z
LAST-MODIFIED:20260327T233746Z
UID:10001137-1775903400-1775912400@tinypawspugrescue.org
SUMMARY:Pug Yoga
DESCRIPTION:Tiny Paws Pug Rescue is excited to invite you to Pug Yoga at Sports Basement in Novato. \nJoin us for a joyful\, beginner friendly yoga class surrounded by adorable pugs looking for love. Expect lots of laughs\, gentle stretching\, and plenty of pug snuggles as our rescue dogs roam the room spreading smiles. \nEvent Details \n\n\nDate: April 11th\, 2026 \n\n\nTime: 10:30-11:30 am (Session 1) or 12-1 pm (Session 2) \n\n\nLocation: Sports Basement\, Novato \n\n\nWhat to Bring \n\n\nYour own yoga mat \n\n\nThis is a feel good event that supports our rescue mission while giving our pugs a chance to socialize and meet potential adopters. All levels are welcome. \nCome stretch\, breathe\, and fall in love with a pug or two. \nJoin with Google Meet: https://meet.google.com/qjf-pksn-dmd\nOr dial: (US) +1 385-262-3592 PIN: 285616438#\nMore phone numbers: https://tel.meet/qjf-pksn-dmd?pin=1259023636613&hs=7\nLearn more about Meet at: https://support.google.com/a/users/answer/9282720
URL:https://tinypawspugrescue.org/event/pug-yoga-133/
LOCATION:100 Vintage Way\, Novato\, CA\, United States
ORGANIZER;CN="audrey@tinypawspugrescue.org":MAILTO:audrey@tinypawspugrescue.org
GEO:38.134068;-122.52719
END:VEVENT
BEGIN:VEVENT
DTSTART;TZID=America/Los_Angeles:20260411T120000
DTEND;TZID=America/Los_Angeles:20260411T130000
DTSTAMP:20260421T143507
CREATED:20260327T233704Z
LAST-MODIFIED:20260411T183956Z
UID:10001134-1775908800-1775912400@tinypawspugrescue.org
SUMMARY:Pug Yoga
DESCRIPTION:Tiny Paws Pug Rescue is excited to invite you to Pug Yoga at Sports Basement in Novato. \nJoin us for a joyful\, beginner friendly yoga class surrounded by adorable pugs looking for love. Expect lots of laughs\, gentle stretching\, and plenty of pug snuggles as our rescue dogs roam the room spreading smiles. \nEvent Details \n\n\nDate: April 11th\, 2026 \n\n\nTime: 10:30-11:30 am (Session 1) or 12-1 pm (Session 2) \n\n\nLocation: Sports Basement\, Novato \n\n\nWhat to Bring \n\n\nYour own yoga mat \n\n\nThis is a feel good event that supports our rescue mission while giving our pugs a chance to socialize and meet potential adopters. All levels are welcome. \nCome stretch\, breathe\, and fall in love with a pug or two. \nJoin with Google Meet: https://meet.google.com/qjf-pksn-dmd\nOr dial: (US) +1 385-262-3592 PIN: 285616438#\nMore phone numbers: https://tel.meet/qjf-pksn-dmd?pin=1259023636613&hs=7\nLearn more about Meet at: https://support.google.com/a/users/answer/9282720
URL:https://tinypawspugrescue.org/event/pug-yoga-130/
LOCATION:100 Vintage Way\, Novato\, CA\, United States
ORGANIZER;CN="audrey@tinypawspugrescue.org":MAILTO:audrey@tinypawspugrescue.org
GEO:38.134068;-122.52719
END:VEVENT
BEGIN:VEVENT
DTSTART;TZID=America/Los_Angeles:20260419T110000
DTEND;TZID=America/Los_Angeles:20260419T130000
DTSTAMP:20260421T143507
CREATED:20251215T192627Z
LAST-MODIFIED:20260419T190150Z
UID:10001057-1776596400-1776603600@tinypawspugrescue.org
SUMMARY:Adoption Event at Los Gatos Pet Food Express-
DESCRIPTION:
URL:https://tinypawspugrescue.org/event/adoption-event-at-los-gatos-pet-food-express-5/
LOCATION:Pet Food Express – Los Gatos 15466 Los Gatos Blvd.\, Los Gatos\, CA\, United States
GEO:37.222788;-121.983274
END:VEVENT
BEGIN:VEVENT
DTSTART;TZID=America/Los_Angeles:20260426T120000
DTEND;TZID=America/Los_Angeles:20260426T140000
DTSTAMP:20260421T143507
CREATED:20251215T192630Z
LAST-MODIFIED:20260421T212808Z
UID:10001058-1777204800-1777212000@tinypawspugrescue.org
SUMMARY:Carmel Meet-up-
DESCRIPTION:
URL:https://tinypawspugrescue.org/event/carmel-meet-up-5/
LOCATION:Scenic Road & Martin Way\, Carmel\, CA\, United States
GEO:36.552532;-121.928629
END:VEVENT
BEGIN:VEVENT
DTSTART;TZID=America/Los_Angeles:20260426T120000
DTEND;TZID=America/Los_Angeles:20260426T140000
DTSTAMP:20260421T143507
CREATED:20251215T192636Z
LAST-MODIFIED:20260421T212808Z
UID:10001059-1777204800-1777212000@tinypawspugrescue.org
SUMMARY:Adoption Event at Concord Pet Food Express-
DESCRIPTION:
URL:https://tinypawspugrescue.org/event/adoption-event-at-concord-pet-food-express-5/
LOCATION:Pet Food Express – Concord\, 701 Oak Grove Rd\, Concord\, CA\, United States
GEO:37.936493;-122.023009
X-APPLE-STRUCTURED-LOCATION;VALUE=URI;X-ADDRESS=Pet Food Express – Concord 701 Oak Grove Rd Concord CA United States;X-APPLE-RADIUS=500;X-TITLE=701 Oak Grove Rd:geo:-122.023009,37.936493
END:VEVENT
BEGIN:VEVENT
DTSTART;TZID=America/Los_Angeles:20260502T110000
DTEND;TZID=America/Los_Angeles:20260502T130000
DTSTAMP:20260421T143507
CREATED:20260409T203008Z
LAST-MODIFIED:20260421T212808Z
UID:10001140-1777719600-1777726800@tinypawspugrescue.org
SUMMARY:San Jose Pug Meet Up
DESCRIPTION:
URL:https://tinypawspugrescue.org/event/san-jose-pug-meet-up/
LOCATION:Butcher Park\, San Jose\, CA\, United States
ORGANIZER;CN="audrey@tinypawspugrescue.org":MAILTO:audrey@tinypawspugrescue.org
GEO:37.256766;-121.922764
END:VEVENT
BEGIN:VEVENT
DTSTART;TZID=America/Los_Angeles:20260517T110000
DTEND;TZID=America/Los_Angeles:20260517T130000
DTSTAMP:20260421T143507
CREATED:20251215T192638Z
LAST-MODIFIED:20260421T212809Z
UID:10001060-1779015600-1779022800@tinypawspugrescue.org
SUMMARY:Adoption Event at Los Gatos Pet Food Express-
DESCRIPTION:
URL:https://tinypawspugrescue.org/event/adoption-event-at-los-gatos-pet-food-express-6/
LOCATION:Pet Food Express – Los Gatos 15466 Los Gatos Blvd.\, Los Gatos\, CA\, United States
GEO:37.222788;-121.983274
END:VEVENT
BEGIN:VEVENT
DTSTART;TZID=America/Los_Angeles:20260524T120000
DTEND;TZID=America/Los_Angeles:20260524T140000
DTSTAMP:20260421T143507
CREATED:20251215T192641Z
LAST-MODIFIED:20260421T212809Z
UID:10001061-1779624000-1779631200@tinypawspugrescue.org
SUMMARY:Adoption Event at Concord Pet Food Express-
DESCRIPTION:
URL:https://tinypawspugrescue.org/event/adoption-event-at-concord-pet-food-express-6/
LOCATION:Pet Food Express – Concord\, 701 Oak Grove Rd\, Concord\, CA\, United States
GEO:37.936493;-122.023009
X-APPLE-STRUCTURED-LOCATION;VALUE=URI;X-ADDRESS=Pet Food Express – Concord 701 Oak Grove Rd Concord CA United States;X-APPLE-RADIUS=500;X-TITLE=701 Oak Grove Rd:geo:-122.023009,37.936493
END:VEVENT
BEGIN:VEVENT
DTSTART;TZID=America/Los_Angeles:20260531T120000
DTEND;TZID=America/Los_Angeles:20260531T140000
DTSTAMP:20260421T143507
CREATED:20251215T192643Z
LAST-MODIFIED:20260421T212809Z
UID:10001062-1780228800-1780236000@tinypawspugrescue.org
SUMMARY:Carmel Meet-up-
DESCRIPTION:
URL:https://tinypawspugrescue.org/event/carmel-meet-up-6/
LOCATION:Scenic Road & Martin Way\, Carmel\, CA\, United States
GEO:36.552532;-121.928629
END:VEVENT
BEGIN:VEVENT
DTSTART;TZID=America/Los_Angeles:20260606T110000
DTEND;TZID=America/Los_Angeles:20260606T130000
DTSTAMP:20260421T143507
CREATED:20260409T203012Z
LAST-MODIFIED:20260421T212810Z
UID:10001141-1780743600-1780750800@tinypawspugrescue.org
SUMMARY:San Jose Pug Meet Up
DESCRIPTION:
URL:https://tinypawspugrescue.org/event/san-jose-pug-meet-up-2/
LOCATION:Butcher Park\, San Jose\, CA\, United States
ORGANIZER;CN="audrey@tinypawspugrescue.org":MAILTO:audrey@tinypawspugrescue.org
GEO:37.256766;-121.922764
END:VEVENT
BEGIN:VEVENT
DTSTART;TZID=America/Los_Angeles:20260613T103000
DTEND;TZID=America/Los_Angeles:20260613T130000
DTSTAMP:20260421T143507
CREATED:20260319T182702Z
LAST-MODIFIED:20260421T212810Z
UID:10001131-1781346600-1781355600@tinypawspugrescue.org
SUMMARY:Pug Yoga
DESCRIPTION:
URL:https://tinypawspugrescue.org/event/pug-yoga-2/
LOCATION:Sports Basement Stonestown\, 3251 20th Ave\, San Francisco\, CA\, United States
ORGANIZER;CN="audrey@tinypawspugrescue.org":MAILTO:audrey@tinypawspugrescue.org
GEO:37.728063;-122.475666
X-APPLE-STRUCTURED-LOCATION;VALUE=URI;X-ADDRESS=Sports Basement Stonestown 3251 20th Ave San Francisco CA United States;X-APPLE-RADIUS=500;X-TITLE=3251 20th Ave:geo:-122.475666,37.728063
END:VEVENT
BEGIN:VEVENT
DTSTART;TZID=America/Los_Angeles:20260613T103000
DTEND;TZID=America/Los_Angeles:20260613T130000
DTSTAMP:20260421T143507
CREATED:20260319T182728Z
LAST-MODIFIED:20260319T182728Z
UID:10001132-1781346600-1781355600@tinypawspugrescue.org
SUMMARY:Pug Yoga
DESCRIPTION:
URL:https://tinypawspugrescue.org/event/pug-yoga-3/
LOCATION:Sports Basement Stonestown\, 3251 20th Ave\, San Francisco\, CA\, United States
ORGANIZER;CN="audrey@tinypawspugrescue.org":MAILTO:audrey@tinypawspugrescue.org
GEO:37.728063;-122.475666
X-APPLE-STRUCTURED-LOCATION;VALUE=URI;X-ADDRESS=Sports Basement Stonestown 3251 20th Ave San Francisco CA United States;X-APPLE-RADIUS=500;X-TITLE=3251 20th Ave:geo:-122.475666,37.728063
END:VEVENT
BEGIN:VEVENT
DTSTART;TZID=America/Los_Angeles:20260621T110000
DTEND;TZID=America/Los_Angeles:20260621T130000
DTSTAMP:20260421T143507
CREATED:20251215T192645Z
LAST-MODIFIED:20260421T212811Z
UID:10001063-1782039600-1782046800@tinypawspugrescue.org
SUMMARY:Adoption Event at Los Gatos Pet Food Express-
DESCRIPTION:
URL:https://tinypawspugrescue.org/event/adoption-event-at-los-gatos-pet-food-express-7/
LOCATION:Pet Food Express – Los Gatos 15466 Los Gatos Blvd.\, Los Gatos\, CA\, United States
GEO:37.222788;-121.983274
END:VEVENT
BEGIN:VEVENT
DTSTART;TZID=America/Los_Angeles:20260628T120000
DTEND;TZID=America/Los_Angeles:20260628T140000
DTSTAMP:20260421T143507
CREATED:20251215T192648Z
LAST-MODIFIED:20260421T212823Z
UID:10001064-1782648000-1782655200@tinypawspugrescue.org
SUMMARY:Carmel Meet-up-
DESCRIPTION:
URL:https://tinypawspugrescue.org/event/carmel-meet-up-7/
LOCATION:Scenic Road & Martin Way\, Carmel\, CA\, United States
GEO:36.552532;-121.928629
END:VEVENT
BEGIN:VEVENT
DTSTART;TZID=America/Los_Angeles:20260628T120000
DTEND;TZID=America/Los_Angeles:20260628T140000
DTSTAMP:20260421T143507
CREATED:20251215T192651Z
LAST-MODIFIED:20260421T212811Z
UID:10001065-1782648000-1782655200@tinypawspugrescue.org
SUMMARY:Adoption Event at Concord Pet Food Express-
DESCRIPTION:
URL:https://tinypawspugrescue.org/event/adoption-event-at-concord-pet-food-express-7/
LOCATION:Pet Food Express – Concord\, 701 Oak Grove Rd\, Concord\, CA\, United States
GEO:37.936493;-122.023009
X-APPLE-STRUCTURED-LOCATION;VALUE=URI;X-ADDRESS=Pet Food Express – Concord 701 Oak Grove Rd Concord CA United States;X-APPLE-RADIUS=500;X-TITLE=701 Oak Grove Rd:geo:-122.023009,37.936493
END:VEVENT
BEGIN:VEVENT
DTSTART;TZID=America/Los_Angeles:20260704T110000
DTEND;TZID=America/Los_Angeles:20260704T130000
DTSTAMP:20260421T143507
CREATED:20260409T203029Z
LAST-MODIFIED:20260421T212824Z
UID:10001142-1783162800-1783170000@tinypawspugrescue.org
SUMMARY:San Jose Pug Meet Up
DESCRIPTION:
URL:https://tinypawspugrescue.org/event/san-jose-pug-meet-up-3/
LOCATION:Butcher Park\, San Jose\, CA\, United States
ORGANIZER;CN="audrey@tinypawspugrescue.org":MAILTO:audrey@tinypawspugrescue.org
GEO:37.256766;-121.922764
END:VEVENT
BEGIN:VEVENT
DTSTART;TZID=America/Los_Angeles:20260719T110000
DTEND;TZID=America/Los_Angeles:20260719T130000
DTSTAMP:20260421T143507
CREATED:20251215T192653Z
LAST-MODIFIED:20260421T212824Z
UID:10001066-1784458800-1784466000@tinypawspugrescue.org
SUMMARY:Adoption Event at Los Gatos Pet Food Express-
DESCRIPTION:
URL:https://tinypawspugrescue.org/event/adoption-event-at-los-gatos-pet-food-express-8/
LOCATION:Pet Food Express – Los Gatos 15466 Los Gatos Blvd.\, Los Gatos\, CA\, United States
GEO:37.222788;-121.983274
END:VEVENT
BEGIN:VEVENT
DTSTART;TZID=America/Los_Angeles:20260726T120000
DTEND;TZID=America/Los_Angeles:20260726T140000
DTSTAMP:20260421T143507
CREATED:20251215T192655Z
LAST-MODIFIED:20260421T212825Z
UID:10001067-1785067200-1785074400@tinypawspugrescue.org
SUMMARY:Carmel Meet-up-
DESCRIPTION:
URL:https://tinypawspugrescue.org/event/carmel-meet-up-8/
LOCATION:Scenic Road & Martin Way\, Carmel\, CA\, United States
GEO:36.552532;-121.928629
END:VEVENT
BEGIN:VEVENT
DTSTART;TZID=America/Los_Angeles:20260726T120000
DTEND;TZID=America/Los_Angeles:20260726T140000
DTSTAMP:20260421T143507
CREATED:20251215T192702Z
LAST-MODIFIED:20260421T212825Z
UID:10001068-1785067200-1785074400@tinypawspugrescue.org
SUMMARY:Adoption Event at Concord Pet Food Express-
DESCRIPTION:
URL:https://tinypawspugrescue.org/event/adoption-event-at-concord-pet-food-express-8/
LOCATION:Pet Food Express – Concord\, 701 Oak Grove Rd\, Concord\, CA\, United States
GEO:37.936493;-122.023009
X-APPLE-STRUCTURED-LOCATION;VALUE=URI;X-ADDRESS=Pet Food Express – Concord 701 Oak Grove Rd Concord CA United States;X-APPLE-RADIUS=500;X-TITLE=701 Oak Grove Rd:geo:-122.023009,37.936493
END:VEVENT
BEGIN:VEVENT
DTSTART;TZID=America/Los_Angeles:20260801T110000
DTEND;TZID=America/Los_Angeles:20260801T130000
DTSTAMP:20260421T143507
CREATED:20260409T203032Z
LAST-MODIFIED:20260421T212826Z
UID:10001143-1785582000-1785589200@tinypawspugrescue.org
SUMMARY:San Jose Pug Meet Up
DESCRIPTION:
URL:https://tinypawspugrescue.org/event/san-jose-pug-meet-up-4/
LOCATION:Butcher Park\, San Jose\, CA\, United States
ORGANIZER;CN="audrey@tinypawspugrescue.org":MAILTO:audrey@tinypawspugrescue.org
GEO:37.256766;-121.922764
END:VEVENT
BEGIN:VEVENT
DTSTART;TZID=America/Los_Angeles:20260816T110000
DTEND;TZID=America/Los_Angeles:20260816T130000
DTSTAMP:20260421T143507
CREATED:20251215T192705Z
LAST-MODIFIED:20260421T212826Z
UID:10001069-1786878000-1786885200@tinypawspugrescue.org
SUMMARY:Adoption Event at Los Gatos Pet Food Express-
DESCRIPTION:
URL:https://tinypawspugrescue.org/event/adoption-event-at-los-gatos-pet-food-express-9/
LOCATION:Pet Food Express – Los Gatos 15466 Los Gatos Blvd.\, Los Gatos\, CA\, United States
GEO:37.222788;-121.983274
END:VEVENT
BEGIN:VEVENT
DTSTART;TZID=America/Los_Angeles:20260823T120000
DTEND;TZID=America/Los_Angeles:20260823T140000
DTSTAMP:20260421T143507
CREATED:20251215T192707Z
LAST-MODIFIED:20260421T212826Z
UID:10001070-1787486400-1787493600@tinypawspugrescue.org
SUMMARY:Adoption Event at Concord Pet Food Express-
DESCRIPTION:
URL:https://tinypawspugrescue.org/event/adoption-event-at-concord-pet-food-express-9/
LOCATION:Pet Food Express – Concord\, 701 Oak Grove Rd\, Concord\, CA\, United States
GEO:37.936493;-122.023009
X-APPLE-STRUCTURED-LOCATION;VALUE=URI;X-ADDRESS=Pet Food Express – Concord 701 Oak Grove Rd Concord CA United States;X-APPLE-RADIUS=500;X-TITLE=701 Oak Grove Rd:geo:-122.023009,37.936493
END:VEVENT
BEGIN:VEVENT
DTSTART;TZID=America/Los_Angeles:20260830T120000
DTEND;TZID=America/Los_Angeles:20260830T140000
DTSTAMP:20260421T143507
CREATED:20251215T192710Z
LAST-MODIFIED:20260421T212827Z
UID:10001071-1788091200-1788098400@tinypawspugrescue.org
SUMMARY:Carmel Meet-up-
DESCRIPTION:
URL:https://tinypawspugrescue.org/event/carmel-meet-up-9/
LOCATION:Scenic Road & Martin Way\, Carmel\, CA\, United States
GEO:36.552532;-121.928629
END:VEVENT
END:VCALENDAR